View In:
ArcGIS JavaScript
ArcGIS Online Map Viewer
ArcGIS Earth
ArcMap
View Footprint In:
ArcGIS Online Map Viewer
Service Description: Image service to display Water Licensing exemption areas in NSW
Name: Industry_Images/Water_Licensing_exemption_areas_2025_tif
Description: Image service to display Water Licensing exemption areas in NSW
Single Fused Map Cache: false
Extent:
XMin: 145.9969444786001
YMin: -36.00679929434932
XMax: 152.54759890531915
YMax: -32.16264302828446
Spatial Reference: 4326
(4326)
Initial Extent:
XMin: 145.9969444786001
YMin: -36.00679929434932
XMax: 152.54759890531915
YMax: -32.16264302828446
Spatial Reference: 4326
(4326)
Full Extent:
XMin: 145.9969444786001
YMin: -36.00679929434932
XMax: 152.54759890531915
YMax: -32.16264302828446
Spatial Reference: 4326
(4326)
Pixel Size X: 3.622768860970935E-5
Pixel Size Y: 3.6227688609709304E-5
Band Count: 4
Pixel Type: U8
RasterFunction Infos: {"rasterFunctionInfos": [{
"name": "None",
"description": "",
"help": ""
}]}
Mensuration Capabilities: Basic
Has Histograms: true
Has Colormap: false
Has Multi Dimensions : false
Rendering Rule:
Min Scale: 0
Max Scale: 0
Copyright Text: DCCEEW Water Licensing Team
Service Data Type: esriImageServiceDataTypeGeneric
Min Values: 0, 0, 0, 0
Max Values: 255, 255, 255, 255
Mean Values: 0.96284497690028, 1.0107589718182, 0.99352863841524, 1.085373123043
Standard Deviation Values: 14.867535005258, 15.615236403148, 15.687766457274, 16.600967188424
Object ID Field:
Fields:
None
Default Mosaic Method: Center
Allowed Mosaic Methods:
SortField:
SortValue: null
Mosaic Operator: First
Default Compression Quality: 75
Default Resampling Method: Nearest
Max Record Count: null
Max Image Height: 4100
Max Image Width: 15000
Max Download Image Count: null
Max Mosaic Image Count: null
Allow Raster Function: true
Allow Copy: true
Allow Analysis: true
Allow Compute TiePoints: false
Supports Statistics: false
Supports Advanced Queries: false
Use StandardizedQueries: true
Raster Type Infos:
Name: Raster Dataset
Description: Supports all ArcGIS Raster Datasets
Help:
Has Raster Attribute Table: false
Edit Fields Info: null
Ownership Based AccessControl For Rasters: null
Child Resources:
Info
Histograms
Statistics
Key Properties
Legend
Raster Function Infos
Supported Operations:
Export Image
Identify
Measure
Compute Histograms
Compute Statistics Histograms
Get Samples
Compute Class Statistics
Query Boundary
Compute Pixel Location
Compute Angles
Validate
Project